﻿BEGIN:VCALENDAR
VERSION:2.0
PRODID:-//Schützenverein Wörth - ECPv6.15.20//NONSGML v1.0//EN
CALSCALE:GREGORIAN
METHOD:PUBLISH
X-ORIGINAL-URL:https://schuetzenverein-woerth.de
X-WR-CALDESC:Veranstaltungen für Schützenverein Wörth
REFRESH-INTERVAL;VALUE=DURATION:PT1H
X-Robots-Tag:noindex
X-PUBLISHED-TTL:PT1H
BEGIN:VTIMEZONE
TZID:Europe/Berlin
BEGIN:DAYLIGHT
TZOFFSETFROM:+0100
TZOFFSETTO:+0200
TZNAME:CEST
DTSTART:20240331T010000
END:DAYLIGHT
BEGIN:STANDARD
TZOFFSETFROM:+0200
TZOFFSETTO:+0100
TZNAME:CET
DTSTART:20241027T010000
END:STANDARD
BEGIN:DAYLIGHT
TZOFFSETFROM:+0100
TZOFFSETTO:+0200
TZNAME:CEST
DTSTART:20250330T010000
END:DAYLIGHT
BEGIN:STANDARD
TZOFFSETFROM:+0200
TZOFFSETTO:+0100
TZNAME:CET
DTSTART:20251026T010000
END:STANDARD
BEGIN:DAYLIGHT
TZOFFSETFROM:+0100
TZOFFSETTO:+0200
TZNAME:CEST
DTSTART:20260329T010000
END:DAYLIGHT
BEGIN:STANDARD
TZOFFSETFROM:+0200
TZOFFSETTO:+0100
TZNAME:CET
DTSTART:20261025T010000
END:STANDARD
END:VTIMEZONE
BEGIN:VEVENT
DTSTART;TZID=Europe/Berlin:20251231T130000
DTEND;TZID=Europe/Berlin:20251231T163000
DTSTAMP:20260420T003156
CREATED:20190819T145514Z
LAST-MODIFIED:20251220T091202Z
UID:456-1767186000-1767198600@schuetzenverein-woerth.de
SUMMARY:Silvesterschießen
DESCRIPTION:Geschossen wird auf dem 100-Meter-Schießstand mit Groß- und Kleinkaliberwaffen. \nAls Preise warten wieder leckere Neujahrsbrezeln auf die besten Schützen! \nBei Brotzeit\, Kaffee und Kuchen ist hierzu die gesamte Bevölkerung herzlich eingeladen!
URL:https://schuetzenverein-woerth.de/event/silvesterschiessen-2/
LOCATION:Schützenhaus\, Q4QV+G9 Wörth am Main
CATEGORIES:Öffentliche Veranstaltung
END:VEVENT
END:VCALENDAR